Workbook

Sheet Primeira Semana
B3: CONTROLE DE GASTOS PESSOAIS DIÁRIOS
C10: Segunda-feira | D10: Terça-feira | E10: Quarta-feira | F10: Quinta-feira | G10: Sexta-feira | H10: Sábado | I10: Domingo | J10: Total semanal
B11: Açougue | C11: 1 | J11: =SUM(C11:I11) -> 1
B12: Almoços | J12: =SUM(C12:I12) -> 0
B13: Cafezinho e afins | J13: =SUM(C13:I13) -> 0
B14: Cinema e videolocadora | J14: =SUM(C14:I14) -> 0
B15: Consertos | J15: =SUM(C15:I15) -> 0
B16: Diarista | J16: =SUM(C16:I16) -> 0
B17: Doações | J17: =SUM(C17:I17) -> 0
B18: Estacionamento | J18: =SUM(C18:I18) -> 0
B19: Farmácia e perfumaria | J19: =SUM(C19:I19) -> 0
B20: Feira | J20: =SUM(C20:I20) -> 0
B21: Gasolina | J21: =SUM(C21:I21) -> 0
B22: Gorjetas | J22: =SUM(C22:I22) -> 0
B23: Jantares | J23: =SUM(C23:I23) -> 0
... B32: Outros | J32: =SUM(C32:I32) -> 0
B33: Total diário | C33: =SUM(C11:C32) -> 1 | D33: =SUM(D11:D32) -> 0 | E33: =SUM(E11:E32) -> 0 | F33: =SUM(F11:F32) -> 0 | G33: =SUM(G11:G32) -> 0 | H33: =SUM(H11:H32) -> 0 | I33: =SUM(I11:I32) -> 0 | J33: =SUM(C33:I33) -> 1

Sheet Segunda Semana
B3: CONTROLE DE GASTOS PESSOAIS DIÁRIOS
C10: Segunda-feira | D10: Terça-feira | E10: Quarta-feira | F10: Quinta-feira | G10: Sexta-feira | H10: Sábado | I10: Domingo | J10: Total semanal
B11: Açougue | C11: 1 | J11: =SUM(C11:I11) -> 1
B12: Almoços | J12: =SUM(C12:I12) -> 0
B13: Cafezinho e afins | J13: =SUM(C13:I13) -> 0
B14: Cinema e videolocadora | J14: =SUM(C14:I14) -> 0
B15: Consertos | J15: =SUM(C15:I15) -> 0
B16: Diarista | J16: =SUM(C16:I16) -> 0
B17: Doações | J17: =SUM(C17:I17) -> 0
B18: Estacionamento | J18: =SUM(C18:I18) -> 0
B19: Farmácia e perfumaria | J19: =SUM(C19:I19) -> 0
B20: Feira | J20: =SUM(C20:I20) -> 0
B21: Gasolina | J21: =SUM(C21:I21) -> 0
B22: Gorjetas | J22: =SUM(C22:I22) -> 0
B23: Jantares | J23: =SUM(C23:I23) -> 0
... B32: Outros | J32: =SUM(C32:I32) -> 0
B33: Total diário | C33: =SUM(C11:C32) -> 1 | D33: =SUM(D11:D32) -> 0 | E33: =SUM(E11:E32) -> 0 | F33: =SUM(F11:F32) -> 0 | G33: =SUM(G11:G32) -> 0 | H33: =SUM(H11:H32) -> 0 | I33: =SUM(I11:I32) -> 0 | J33: =SUM(C33:I33) -> 1

Sheet Terceira Semana
B3: CONTROLE DE GASTOS PESSOAIS DIÁRIOS
C10: Segunda-feira | D10: Terça-feira | E10: Quarta-feira | F10: Quinta-feira | G10: Sexta-feira | H10: Sábado | I10: Domingo | J10: Total semanal
B11: Açougue | C11: 1 | J11: =SUM(C11:I11) -> 1
B12: Almoços | J12: =SUM(C12:I12) -> 0
B13: Cafezinho e afins | J13: =SUM(C13:I13) -> 0
B14: Cinema e videolocadora | J14: =SUM(C14:I14) -> 0
B15: Consertos | J15: =SUM(C15:I15) -> 0
B16: Diarista | J16: =SUM(C16:I16) -> 0
B17: Doações | J17: =SUM(C17:I17) -> 0
B18: Estacionamento | J18: =SUM(C18:I18) -> 0
B19: Farmácia e perfumaria | J19: =SUM(C19:I19) -> 0
B20: Feira | J20: =SUM(C20:I20) -> 0
B21: Gasolina | J21: =SUM(C21:I21) -> 0
B22: Gorjetas | J22: =SUM(C22:I22) -> 0
B23: Jantares | J23: =SUM(C23:I23) -> 0
... B32: Outros | J32: =SUM(C32:I32) -> 0
B33: Total diário | C33: =SUM(C11:C32) -> 1 | D33: =SUM(D11:D32) -> 0 | E33: =SUM(E11:E32) -> 0 | F33: =SUM(F11:F32) -> 0 | G33: =SUM(G11:G32) -> 0 | H33: =SUM(H11:H32) -> 0 | I33: =SUM(I11:I32) -> 0 | J33: =SUM(C33:I33) -> 1

Sheet Quarta Semana
B3: CONTROLE DE GASTOS PESSOAIS DIÁRIOS
C10: Segunda-feira | D10: Terça-feira | E10: Quarta-feira | F10: Quinta-feira | G10: Sexta-feira | H10: Sábado | I10: Domingo | J10: Total semanal
B11: Açougue | C11: 1 | J11: =SUM(C11:I11) -> 1
B12: Almoços | J12: =SUM(C12:I12) -> 0
B13: Cafezinho e afins | J13: =SUM(C13:I13) -> 0
B14: Cinema e videolocadora | J14: =SUM(C14:I14) -> 0
B15: Consertos | J15: =SUM(C15:I15) -> 0
B16: Diarista | J16: =SUM(C16:I16) -> 0
B17: Doações | J17: =SUM(C17:I17) -> 0
B18: Estacionamento | J18: =SUM(C18:I18) -> 0
B19: Farmácia e perfumaria | J19: =SUM(C19:I19) -> 0
B20: Feira | J20: =SUM(C20:I20) -> 0
B21: Gasolina | J21: =SUM(C21:I21) -> 0
B22: Gorjetas | J22: =SUM(C22:I22) -> 0
B23: Jantares | J23: =SUM(C23:I23) -> 0
... B32: Outros | J32: =SUM(C32:I32) -> 0
B33: Total diário | C33: =SUM(C11:C32) -> 1 | D33: =SUM(D11:D32) -> 0 | E33: =SUM(E11:E32) -> 0 | F33: =SUM(F11:F32) -> 0 | G33: =SUM(G11:G32) -> 0 | H33: =SUM(H11:H32) -> 0 | I33: =SUM(I11:I32) -> 0 | J33: =SUM(C33:I33) -> 1

Sheet Consolidação
B2: CONTROLE DE GASTOS PESSOAIS DIÁRIOS
C8: Total Mensal
B9: Açougue | C9: ='Primeira Semana'!J11+'Segunda Semana'!J11+'Terceira Semana'!J11+'Quarta Semana'!J11 -> 4
B10: Almoços | C10: ='Primeira Semana'!J12+'Segunda Semana'!J12+'Terceira Semana'!J12+'Quarta Semana'!J12 -> 0
B11: Cafezinho e afins | C11: ='Primeira Semana'!J13+'Segunda Semana'!J13+'Terceira Semana'!J13+'Quarta Semana'!J13 -> 0
B12: Cinema e videolocadora | C12: ='Primeira Semana'!J14+'Segunda Semana'!J14+'Terceira Semana'!J14+'Quarta Semana'!J14 -> 0
B13: Consertos | C13: ='Primeira Semana'!J15+'Segunda Semana'!J15+'Terceira Semana'!J15+'Quarta Semana'!J15 -> 0
B14: Diarista | C14: ='Primeira Semana'!J16+'Segunda Semana'!J16+'Terceira Semana'!J16+'Quarta Semana'!J16 -> 0
B15: Doações | C15: ='Primeira Semana'!J17+'Segunda Semana'!J17+'Terceira Semana'!J17+'Quarta Semana'!J17 -> 0
B16: Estacionamento | C16: ='Primeira Semana'!J18+'Segunda Semana'!J18+'Terceira Semana'!J18+'Quarta Semana'!J18 -> 0
B17: Farmácia e perfumaria | C17: ='Primeira Semana'!J19+'Segunda Semana'!J19+'Terceira Semana'!J19+'Quarta Semana'!J19 -> 0
B18: Feira | C18: ='Primeira Semana'!J20+'Segunda Semana'!J20+'Terceira Semana'!J20+'Quarta Semana'!J20 -> 0
B19: Gasolina | C19: ='Primeira Semana'!J21+'Segunda Semana'!J21+'Terceira Semana'!J21+'Quarta Semana'!J21 -> 0
B20: Gorjetas | C20: ='Primeira Semana'!J22+'Segunda Semana'!J22+'Terceira Semana'!J22+'Quarta Semana'!J22 -> 0
... B31: Total mensal | C31: ='Primeira Semana'!J33+'Segunda Semana'!J33+'Terceira Semana'!J33+'Quarta Semana'!J33 -> 4
