Workbook
Name AnoCalendário: '📈'!$R$3
Name DiasESemanas: {0,1,2,3,4,5,6} + {0;1;2;3;4;5}*7
Name DiasESemanas: {0,1,2,3,4,5,6} + {0;1;2;3;4;5}*7
Name DiasESemanas: {0,1,2,3,4,5,6} + {0;1;2;3;4;5}*7
Name DiasESemanas: {0,1,2,3,4,5,6} + {0;1;2;3;4;5}*7
Name DiasESemanas: {0,1,2,3,4,5,6} + {0;1;2;3;4;5}*7
Name DiasESemanas: {0,1,2,3,4,5,6} + {0;1;2;3;4;5}*7
Name DiasESemanas: {0,1,2,3,4,5,6} + {0;1;2;3;4;5}*7
Name DiasESemanas: {0,1,2,3,4,5,6} + {0;1;2;3;4;5}*7
Name DiasESemanas: {0,1,2,3,4,5,6} + {0;1;2;3;4;5}*7
Name DiasESemanas: {0,1,2,3,4,5,6} + {0;1;2;3;4;5}*7
Name DiasESemanas: {0,1,2,3,4,5,6} + {0;1;2;3;4;5}*7
Name DiasESemanas: {0,1,2,3,4,5,6} + {0;1;2;3;4;5}*7
Name DiasESemanas: {0,1,2,3,4,5,6} + {0;1;2;3;4;5}*7
Name DiasESemanas: {0,1,2,3,4,5,6} + {0;1;2;3;4;5}*7
Name DiasESemanas: {0,1,2,3,4,5,6} + {0;1;2;3;4;5}*7
Name DiasESemanas: {0,1,2,3,4,5,6} + {0;1;2;3;4;5}*7
Name DiasESemanas: {0,1,2,3,4,5,6} + {0;1;2;3;4;5}*7
Name DiasESemanas: {0,1,2,3,4,5,6} + {0;1;2;3;4;5}*7
Name InícioDaSemana: '📈'!$R$4
Name RegiãoTítuloColuna1..H12.1: '📈'!$E$12
Name RegiãoTítuloColuna1..H12.4: '📈'!$E$12
Name RegiãoTítuloColuna2..C14.1: '📈'!$E$12

Sheet 🏠
F3: PLANILHA DE GASTOS COMPLETA

Sheet ⚙️
D3: Configuração | Q3: =IFERROR(VLOOKUP($F$15,DADOS!$B$3:$C$14,2,FALSE),0) -> 1
Q4: 1.2
Q5: 120 | R5: TOTAL
J10: MÉTODO DO POTE
C13: Saldo inicial | F13: 350 | J13: DESPESAS FIXAS | L13: =IF('⚙️'!$F$17="","",IF('⚙️'!$F$17=DADOS!$I$3,DADOS!$H$15/100,$N$13/100)) -> 0.4 | M13: % | N13: 40
C15: Mês de início | F15: JANEIRO | J15: DESPESAS DOAÇÕES E PRESENTES | L15: =IF('⚙️'!$F$17="","",IF('⚙️'!$F$17=DADOS!$I$3,DADOS!$H$16/100,$N$15/100)) -> 0.05 | M15: % | N15: 5
C17: Tipo de meta (Método do pote) | F17: MANUAL | J17: DESPESAS LAZER | L17: =IF('⚙️'!$F$17="","",IF('⚙️'!$F$17=DADOS!$I$3,DADOS!$H$17/100,$N$17/100)) -> 0.2 | M17: % | N17: 20
J19: DESPESAS EDUCAÇÃO | L19: =IF('⚙️'!$F$17="","",IF('⚙️'!$F$17=DADOS!$I$3,DADOS!$H$18/100,$N$19/100)) -> 0.15 | M19: % | N19: 15
J21: RESERVA EMERGÊNCIA | L21: =IF('⚙️'!$F$17="","",IF('⚙️'!$F$17=DADOS!$I$3,DADOS!$H$19/100,$N$21/100)) -> 0.1 | M21: % | N21: 10
J23: INVESTIMENTOS | L23: =IF('⚙️'!$F$17="","",IF('⚙️'!$F$17=DADOS!$I$3,DADOS!$H$20/100,$N$23/100)) -> 0.1 | M23: % | N23: 10
J25: TOTAL | L25: =SUM(L23,L21,L19,L17,L15,L13) -> 1 | M25: % | N25: =SUM(N23,N21,N19,N17,N15,N13) -> 100

Sheet 🔒
D2: LIVRO DE REGISTROS
L4: ANUAL
B6: DIA | C6: MÊS | D6: DATA REGISTRO | E6: REGISTRO | F6: TIPO | G6: CATEGORIA | H6: DESCRIÇÃO | I6: VALOR | J6: FORMATO | K6: SITUAÇÃO | L6: DATA MOVIMENTAÇÃO
B7: =DAY(tabela_registros[[#This Row],[DATA REGISTRO]]) -> 1 | C7: =MONTH(tabela_registros[[#This Row],[DATA REGISTRO]]) -> 1 | D7: 43831 | E7: INVESTIMENTO | F7: RENDA VARIÁVEL | G7: 📝 FII | H7: XYZ11 - 10 cotas | I7: 356 | J7: DINHEIRO | K7: REALIZADO | L7: 43923
B8: =DAY(tabela_registros[[#This Row],[DATA REGISTRO]]) -> 2 | C8: =MONTH(tabela_registros[[#This Row],[DATA REGISTRO]]) -> 1 | D8: 43832 | E8: INVESTIMENTO | F8: RENDA FIXA | G8: 📝 EXTERIOR | H8: REIT - Treasure bonds | I8: 254 | J8: DINHEIRO | K8: REALIZADO | L8: 44136
B9: =DAY(tabela_registros[[#This Row],[DATA REGISTRO]]) -> 3 | C9: =MONTH(tabela_registros[[#This Row],[DATA REGISTRO]]) -> 1 | D9: 43833 | E9: RESERVA | F9: RENDA FIXA | G9: 📝 CDB | H9: CDB - Objetivos Neon | I9: 25 | J9: DINHEIRO | K9: PREVISTO | L9: 43988
B10: =DAY(tabela_registros[[#This Row],[DATA REGISTRO]]) -> 4 | C10: =MONTH(tabela_registros[[#This Row],[DATA REGISTRO]]) -> 1 | D10: 43834 | E10: RESERVA | F10: RENDA FIXA | G10: 📝 CRI | H10: Credito Imobiliário Xyz | I10: 38 | J10: DINHEIRO | K10: PREVISTO | L10: 43989
B11: =DAY(tabela_registros[[#This Row],[DATA REGISTRO]]) -> 15 | C11: =MONTH(tabela_registros[[#This Row],[DATA REGISTRO]]) -> 8 | D11: 44058 | E11: ▲ ENTRADA | F11: RECEITA VARIÁVEL | G11: 👷‍♀️ TRABALHO TEMPORÁRIO | H11: Trabalho no lava-rápido do João | I11: 45 | J11: DINHEIRO | K11: REALIZADO | L11: 43990
B12: =DAY(tabela_registros[[#This Row],[DATA REGISTRO]]) -> 6 | C12: =MONTH(tabela_registros[[#This Row],[DATA REGISTRO]]) -> 1 | D12: 43836 | E12: RESERVA | F12: RENDA FIXA | G12: 📝 TESOURO DIRETO | H12: IPCA+ 45 | I12: 150 | J12: DINHEIRO | K12: REALIZADO | L12: 43991
B13: =DAY(tabela_registros[[#This Row],[DATA REGISTRO]]) -> 7 | C13: =MONTH(tabela_registros[[#This Row],[DATA REGISTRO]]) -> 1 | D13: 43837 | E13: ▼ SAÍDA | F13: DESPESA FIXA | G13: 💧 ÁGUA | H13: Água Condomínio | I13: 89 | J13: DINHEIRO | K13: PREVISTO | L13: 43922
B14: =DAY(tabela_registros[[#This Row],[DATA REGISTRO]]) -> 8 | C14: =MONTH(tabela_registros[[#This Row],[DATA REGISTRO]]) -> 1 | D14: 43838 | E14: ▼ SAÍDA | F14: DESPESA VARIÁVEL | G14: 🍕 ALIMENTAÇÃO | H14: Pizza do fds | I14: 144.57143 | J14: DINHEIRO | K14: REALIZADO | L14: 43924
B15: =DAY(tabela_registros[[#This Row],[DATA REGISTRO]]) -> 9 | C15: =MONTH(tabela_registros[[#This Row],[DATA REGISTRO]]) -> 1 | D15: 43839 | E15: ▼ SAÍDA | F15: DESPESA VARIÁVEL | G15: 📖 EDUCAÇÃO | H15: Curso online sobre gestão de gastos | I15: 137.21429 | J15: DINHEIRO | K15: REALIZADO | L15: 43926
B16: =DAY(tabela_registros[[#This Row],[DATA REGISTRO]]) -> 10 | C16: =MONTH(tabela_registros[[#This Row],[DATA REGISTRO]]) -> 1 | D16: 43840 | E16: ▲ ENTRADA | F16: RECEITA FIXA | G16: 💵 ALUGUEL | H16: Parcela jan/2020 | I16: 129.85714 | J16: DINHEIRO | K16: REALIZADO | L16: 43928
B17: =DAY(tabela_registros[[#This Row],[DATA REGISTRO]]) -> 11 | C17: =MONTH(tabela_registros[[#This Row],[DATA REGISTRO]]) -> 1 | D17: 43841 | E17: ▲ ENTRADA | F17: RECEITA VARIÁVEL | G17: 🤑 COMISSÃO | H17: Venda de sapatos | I17: 122.5 | J17: DINHEIRO | K17: PREVISTO | L17: 43927
B18: =DAY(tabela_registros[[#This Row],[DATA REGISTRO]]) -> 12 | C18: =MONTH(tabela_registros[[#This Row],[DATA REGISTRO]]) -> 2 | D18: 43873 | E18: ▼ SAÍDA | F18: DESPESA FIXA | G18: 💡 ENERGIA | H18: Conta de fev/2020 | I18: 115.14286 | J18: DINHEIRO | K18: PREVISTO | L18: 43929
... B76: =DAY(tabela_registros[[#This Row],[DATA REGISTRO]]) -> 29 | C76: =MONTH(tabela_registros[[#This Row],[DATA REGISTRO]]) -> 11 | D76: 44894 | E76: ▼ SAÍDA | F76: DESPESA FIXA | G76: 💡 ENERGIA | H76: luz | I76: 140 | J76: DEPÓSITO | K76: REALIZADO | L76: 44885

Sheet ANUAL
A1: JANEIRO | E1: 1 | F1: 2 | G1: 3 | H1: 4 | I1: 5 | J1: 6 | K1: 7 | L1: 8 | M1: 9 | N1: 10 | O1: 11 | P1: 12 | AC1: MÊS | AD1: 1 | AG1: VALOR INICIAL CAIXA | AH1: =IF('⚙️'!$Q$3=$AD$1,'⚙️'!$F$13,"") -> 350 | AI1: VALOR INICIAL INVESTIMENTO | AJ1: =IF('⚙️'!$Q$3=$AD$1,'🏠'!$Q$8,"") -> 0 | AK1: VALOR INICIAL RESERVA | AL1: =IF('⚙️'!$Q$3=$AD$1,'🏠'!$Q$9,"") -> 0
C2: ANUAL
E3: DISPONÍVEL | H3: GANHEI | K3: GASTEI | N3: INVESTI | Q3: RESERVEI | V3: REGISTROS | X3: RADAR
E4: =$Q$16 -> 2430.1714 | H4: =Q14 -> 5575.3571 | K4: =Q15 -> 3495.1857 | N4: =Q25 -> 2769.6429 | Q4: =Q26 -> 2588
E6: JAN | F6: FEV | G6: MAR | H6: ABR | I6: MAI | J6: JUN | K6: JUL | L6: AGO | M6: SET | N6: OUT | O6: NOV | P6: DEZ
Q10: TOTAL
Q11: 🔽 | AQ11: REALIZADO | AR11: REALIZADO
AO12: REALIZADO | AP12: PROGRAMADO | AQ12: % PARTICIPAÇÃO | AR12: % PARTICIPAÇÃO
C13: ATUAL | D13: Coluna1 | E13: 1 | F13: 2 | G13: 3 | H13: 4 | I13: 5 | J13: 6 | K13: 7 | L13: 8 | M13: 9 | N13: 10 | O13: 11 | P13: 12 | Q13: TOTAL (R$) | V13: 5555
C14: RECEITAS | E14: =jantotal[[#This Row],[TOTAL (R$)]] -> 932.35714 | F14: =fevtotal30[[#This Row],[TOTAL (R$)]] -> 474 | G14: =martotal3059[[#This Row],[TOTAL (R$)]] -> 424 | H14: =abrtotal305971[[#This Row],[TOTAL (R$)]] -> 310 | I14: =maitotal30597183[[#This Row],[TOTAL (R$)]] -> 556 | J14: =juntotal3059718395[[#This Row],[TOTAL (R$)]] -> 0 | K14: =jultotal3059718395107[[#This Row],[TOTAL (R$)]] -> 266 | L14: =agototal3059718395107119[[#This Row],[TOTAL (R$)]] -> 2613 | M14: =settotal3059718395107119131[[#This Row],[TOTAL (R$)]] -> 0 | N14: =outtotal3059718395107119131143[[#This Row],[TOTAL (R$)]] -> 0 | O14: =novtotal3059718395107119131143155[[#This Row],[TOTAL (R$)]] -> 0 | P14: =deztotal3059718395107119131143155167[[#This Row],[TOTAL (R$)]] -> 0 | Q14: =SUM(anualtotal39[[#This Row],[1]:[12]]) -> 5575.3571 | AO14: =SUMIFS(tabela_registros[VALOR],tabela_registros[MÊS],$AE$1,tabela_registros[REGISTRO],DADOS!$N$3,#REF!,DADOS!$J$4) -> #REF! | AP14: =SUMIFS(tabela_registros[VALOR],tabela_registros[MÊS],$AE$1,tabela_registros[REGISTRO],DADOS!$N$3,#REF!,DADOS!$J$3) -> #REF! | AQ14: =(AO14*$AQ$16)/$AO$16 -> #REF! | AR14: =(AP14*$AQ$16)/$AP$16 -> #REF!
C15: DESPESAS | E15: =jantotal[[#This Row],[TOTAL (R$)]] -> 1225.1429 | F15: =fevtotal30[[#This Row],[TOTAL (R$)]] -> 115.14286 | G15: =martotal3059[[#This Row],[TOTAL (R$)]] -> 352 | H15: =abrtotal305971[[#This Row],[TOTAL (R$)]] -> 575 | I15: =maitotal30597183[[#This Row],[TOTAL (R$)]] -> 0 | J15: =juntotal3059718395[[#This Row],[TOTAL (R$)]] -> 0 | K15: =jultotal3059718395107[[#This Row],[TOTAL (R$)]] -> 998 | L15: =agototal3059718395107119[[#This Row],[TOTAL (R$)]] -> 0 | M15: =settotal3059718395107119131[[#This Row],[TOTAL (R$)]] -> 0 | N15: =outtotal3059718395107119131143[[#This Row],[TOTAL (R$)]] -> 89.9 | O15: =novtotal3059718395107119131143155[[#This Row],[TOTAL (R$)]] -> 140 | P15: =deztotal3059718395107119131143155167[[#This Row],[TOTAL (R$)]] -> 0 | Q15: =SUM(anualtotal39[[#This Row],[1]:[12]]) -> 3495.1857 | AO15: =SUMIFS(tabela_registros[VALOR],tabela_registros[MÊS],$AE$1,tabela_registros[REGISTRO],DADOS!$N$4,#REF!,DADOS!$J$4) -> #REF! | AP15: =SUMIFS(tabela_registros[VALOR],tabela_registros[MÊS],$AE$1,tabela_registros[REGISTRO],DADOS!$N$4,#REF!,DADOS!$J$3) -> #REF! | AQ15: =(AO15*$AQ$16)/$AO$16 -> #REF! | AR15: =(AP15*$AQ$16)/$AP$16 -> #REF!
C16: SALDO | E16: =jantotal[[#This Row],[TOTAL (R$)]] -> 57.214286 | F16: =fevtotal30[[#This Row],[TOTAL (R$)]]+anualtotal39[[#This Row],[1]] -> 416.07143 | G16: =martotal3059[[#This Row],[TOTAL (R$)]]+anualtotal39[[#This Row],[2]] -> 488.07143 | H16: =abrtotal305971[[#This Row],[TOTAL (R$)]]+anualtotal39[[#This Row],[3]] -> 223.07143 | I16: =maitotal30597183[[#This Row],[TOTAL (R$)]]+anualtotal39[[#This Row],[4]] -> 779.07143 | J16: =juntotal3059718395[[#This Row],[TOTAL (R$)]]+anualtotal39[[#This Row],[5]] -> 779.07143 | K16: =jultotal3059718395107[[#This Row],[TOTAL (R$)]]+anualtotal39[[#This Row],[6]] -> 47.071429 | L16: =agototal3059718395107119[[#This Row],[TOTAL (R$)]]+anualtotal39[[#This Row],[7]] -> 2660.0714 | M16: =settotal3059718395107119131[[#This Row],[TOTAL (R$)]]+anualtotal39[[#This Row],[8]] -> 2660.0714 | N16: =outtotal3059718395107119131143[[#This Row],[TOTAL (R$)]]+anualtotal39[[#This Row],[9]] -> 2570.1714 | O16: =novtotal3059718395107119131143155[[#This Row],[TOTAL (R$)]]+anualtotal39[[#This Row],[10]] -> 2430.1714 | P16: =deztotal3059718395107119131143155167[[#This Row],[TOTAL (R$)]]+anualtotal39[[#This Row],[11]] -> 2430.1714 | Q16: =anualtotal39[[#This Row],[12]] -> 2430.1714 | AO16: =SUM(AO14:AO15) -> #REF! | AP16: =SUM(AP14:AP15) -> #REF! | AQ16: 1 | AR16: 1
Q21: TOTAL
Q22: 🔽
AO23: REALIZADO | AP23: PROGRAMADO | AQ23: % PARTICIPAÇÃO
C24: ATUAL | D24: Coluna1 | E24: 1 | F24: 2 | G24: 3 | H24: 4 | I24: 5 | J24: 6 | K24: 7 | L24: 8 | M24: 9 | N24: 10 | O24: 11 | P24: 12 | Q24: TOTAL (R$) | AC24: INVESTIMENTOS | AD24: =-#REF! -> #REF!
C25: INVESTIMENTOS | E25: =janinvestir[[#This Row],[TOTAL (R$)]] -> 730.64286 | F25: =fevinvestir21[[#This Row],[TOTAL (R$)]] -> 1588 | G25: =marinvestir2158[[#This Row],[TOTAL (R$)]] -> 0 | H25: =abrinvestir215870[[#This Row],[TOTAL (R$)]] -> 0 | I25: =maiinvestir21587082[[#This Row],[TOTAL (R$)]] -> 0 | J25: =juninvestir2158708294[[#This Row],[TOTAL (R$)]] -> 0 | K25: =julinvestir2158708294106[[#This Row],[TOTAL (R$)]] -> 0 | L25: =agoinvestir2158708294106118[[#This Row],[TOTAL (R$)]] -> 0 | M25: =setinvestir2158708294106118130[[#This Row],[TOTAL (R$)]] -> 0 | N25: =outinvestir2158708294106118130142[[#This Row],[TOTAL (R$)]] -> 451 | O25: =novinvestir2158708294106118130142154[[#This Row],[TOTAL (R$)]] -> 0 | P25: =dezinvestir2158708294106118130142154166[[#This Row],[TOTAL (R$)]] -> 0 | Q25: =SUM(E25:P25) -> 2769.6429 | AO25: =SUMIFS(tabela_registros[VALOR],tabela_registros[MÊS],$AE$1,tabela_registros[REGISTRO],DADOS!$N$5,#REF!,DADOS!$J$4) -> #REF! | AP25: =SUMIFS(tabela_registros[VALOR],tabela_registros[MÊS],$AE$1,tabela_registros[REGISTRO],DADOS!$N$5,#REF!,DADOS!$J$3) -> #REF! | AQ25: =(anualinvestir38[[#This Row],[TOTAL (R$)]]*$AQ$27)/$Q$27 -> 0.51695175
C26: RESERVA EMERGÊNCIA | E26: =janinvestir[[#This Row],[TOTAL (R$)]] -> 2502 | F26: =fevinvestir21[[#This Row],[TOTAL (R$)]] -> 86 | G26: =marinvestir2158[[#This Row],[TOTAL (R$)]] -> 0 | H26: =abrinvestir215870[[#This Row],[TOTAL (R$)]] -> 0 | I26: =maiinvestir21587082[[#This Row],[TOTAL (R$)]] -> 0 | J26: =juninvestir2158708294[[#This Row],[TOTAL (R$)]] -> 0 | K26: =julinvestir2158708294106[[#This Row],[TOTAL (R$)]] -> 0 | L26: =agoinvestir2158708294106118[[#This Row],[TOTAL (R$)]] -> 0 | M26: =setinvestir2158708294106118130[[#This Row],[TOTAL (R$)]] -> 0 | N26: =outinvestir2158708294106118130142[[#This Row],[TOTAL (R$)]] -> 0 | O26: =novinvestir2158708294106118130142154[[#This Row],[TOTAL (R$)]] -> 0 | P26: =dezinvestir2158708294106118130142154166[[#This Row],[TOTAL (R$)]] -> 0 | Q26: =SUM(E26:P26) -> 2588 | AO26: =SUMIFS(tabela_registros[VALOR],tabela_registros[MÊS],$AE$1,tabela_registros[REGISTRO],DADOS!$N$6,#REF!,DADOS!$J$4) -> #REF! | AP26: =SUMIFS(tabela_registros[VALOR],tabela_registros[MÊS],$AE$1,tabela_registros[REGISTRO],DADOS!$N$6,#REF!,DADOS!$J$3) -> #REF! | AQ26: =(anualinvestir38[[#This Row],[TOTAL (R$)]]*$AQ$27)/$Q$27 -> 0.48304825
C27: TOTAL | E27: =janinvestir[[#This Row],[TOTAL (R$)]] -> 3232.6429 | F27: =fevinvestir21[[#This Row],[TOTAL (R$)]]+anualinvestir38[[#This Row],[1]] -> 4906.6429 | G27: =marinvestir2158[[#This Row],[TOTAL (R$)]]+anualinvestir38[[#This Row],[2]] -> 4906.6429 | H27: =abrinvestir215870[[#This Row],[TOTAL (R$)]]+anualinvestir38[[#This Row],[3]] -> 4906.6429 | I27: =maiinvestir21587082[[#This Row],[TOTAL (R$)]]+anualinvestir38[[#This Row],[4]] -> 4906.6429 | J27: =juninvestir2158708294[[#This Row],[TOTAL (R$)]]+anualinvestir38[[#This Row],[5]] -> 4906.6429 | K27: =julinvestir2158708294106[[#This Row],[TOTAL (R$)]]+anualinvestir38[[#This Row],[6]] -> 4906.6429 | L27: =agoinvestir2158708294106118[[#This Row],[TOTAL (R$)]]+anualinvestir38[[#This Row],[7]] -> 4906.6429 | M27: =setinvestir2158708294106118130[[#This Row],[TOTAL (R$)]]+anualinvestir38[[#This Row],[8]] -> 4906.6429 | N27: =outinvestir2158708294106118130142[[#This Row],[TOTAL (R$)]]+anualinvestir38[[#This Row],[9]] -> 5357.6429 | O27: =novinvestir2158708294106118130142154[[#This Row],[TOTAL (R$)]]+anualinvestir38[[#This Row],[10]] -> 5357.6429 | P27: =dezinvestir2158708294106118130142154166[[#This Row],[TOTAL (R$)]]+anualinvestir38[[#This Row],[11]] -> 5357.6429 | Q27: =anualinvestir38[[#This Row],[12]] -> 5357.6429 | AO27: =SUM(AO25:AO26) -> #REF! | AP27: =SUM(AP25:AP26) -> #REF! | AQ27: 1
C28: SALDO | E28: =SUBTOTAL(109,anualinvestir38[1]) -> 6465.2857 | F28: =SUBTOTAL(109,anualinvestir38[2]) -> 6580.6429 | G28: =SUBTOTAL(109,anualinvestir38[3]) -> 4906.6429 | H28: =SUBTOTAL(109,anualinvestir38[4]) -> 4906.6429 | I28: =SUBTOTAL(109,anualinvestir38[5]) -> 4906.6429 | J28: =SUBTOTAL(109,anualinvestir38[6]) -> 4906.6429 | K28: =SUBTOTAL(109,anualinvestir38[7]) -> 4906.6429 | L28: =SUBTOTAL(109,anualinvestir38[8]) -> 4906.6429 | M28: =SUBTOTAL(109,anualinvestir38[9]) -> 4906.6429 | N28: =SUBTOTAL(109,anualinvestir38[10]) -> 5808.6429 | O28: =SUBTOTAL(109,anualinvestir38[11]) -> 5357.6429 | P28: =SUBTOTAL(109,anualinvestir38[12]) -> 5357.6429 | Q28: =SUBTOTAL(109,anualinvestir38[TOTAL (R$)]) -> 10715.286
Q33: TOTAL
Q34: 🔽
AO35: REALIZADO | AP35: PROGRAMADO | AQ35: % PARTICIPAÇÃO
C36: DESPESA FIXA | D36: Coluna1 | E36: 1 | F36: 2 | G36: 3 | H36: 4 | I36: 5 | J36: 6 | K36: 7 | L36: 8 | M36: 9 | N36: 10 | O36: 11 | P36: 12 | Q36: TOTAL | R36: PAGO | S36: PARTICIPAÇÃO | AB36: ativar frases de motivação?
C37: =DADOS!$R$3 -> 💧 ÁGUA | D37: =IF(despesafixaconsolidadoanual[[#This Row],[TOTAL]]=0,"",IF(OR(despesafixaconsolidadoanual[[#This Row],[TOTAL]]=LARGE($Q$37:$Q$50,1),despesafixaconsolidadoanual[[#This Row],[TOTAL]]=LARGE($Q$37:$Q$50,2),despesafixaconsolidadoanual[[#This Row],[TOTAL]]=LARGE($Q$37:$Q$50,3),despesafixaconsolidadoanual[[#This Row],[TOTAL]]=LARGE($Q$37:$Q$50,4),despesafixaconsolidadoanual[[#This Row],[TOTAL]]=LARGE($Q$37:$Q$50,5)),DADOS!$I$8,"")) -> 💣 | E37: =despesafixaconsolidado[[#This Row],[TOTAL]] -> 89 | F37: =despesafixaconsolidadofev[[#This Row],[TOTAL]] -> 0 | G37: =despesafixaconsolidadomar[[#This Row],[TOTAL]] -> 0 | H37: =despesafixaconsolidadoabr[[#This Row],[TOTAL]] -> 125 | I37: =despesafixaconsolidadomai[[#This Row],[TOTAL]] -> 0 | J37: =despesafixaconsolidadojun[[#This Row],[TOTAL]] -> 0 | K37: =despesafixaconsolidadojul[[#This Row],[TOTAL]] -> 0 | L37: =despesafixaconsolidadoago[[#This Row],[TOTAL]] -> 0 | M37: =despesafixaconsolidadoset[[#This Row],[TOTAL]] -> 0 | N37: =despesafixaconsolidadoout[[#This Row],[TOTAL]] -> 0 | O37: =despesafixaconsolidadonov[[#This Row],[TOTAL]] -> 0 | P37: =despesafixaconsolidadodez[[#This Row],[TOTAL]] -> 0 | Q37: =SUM(despesafixaconsolidadoanual[[#This Row],[1]:[12]]) -> 214 | AO37: =SUMIFS(tabela_registros[VALOR],tabela_registros[MÊS],$AE$1,tabela_registros[REGISTRO],DADOS!$N$4,tabela_registros[TIPO],DADOS!$P$3,tabela_registros[CATEGORIA],despesafixaconsolidadodez[[#This Row],[DESPESA FIXA]],#REF!,DADOS!$J$4) -> #REF! | AP37: =SUMIFS(tabela_registros[VALOR],tabela_registros[MÊS],$AE$1,tabela_registros[REGISTRO],DADOS!$N$4,tabela_registros[TIPO],DADOS!$P$3,tabela_registros[CATEGORIA],despesafixaconsolidadodez[[#This Row],[DESPESA FIXA]],#REF!,DADOS!$J$3) -> #REF! | AQ37: =(despesafixaconsolidadoanual[[#This Row],[TOTAL]]*$AQ$51)/$Q$51 -> 0.19467692
C38: =DADOS!$R$4 -> 🐶 ANIMAIS DE ESTIMAÇÃO | D38: =IF(despesafixaconsolidadoanual[[#This Row],[TOTAL]]=0,"",IF(OR(despesafixaconsolidadoanual[[#This Row],[TOTAL]]=LARGE($Q$37:$Q$50,1),despesafixaconsolidadoanual[[#This Row],[TOTAL]]=LARGE($Q$37:$Q$50,2),despesafixaconsolidadoanual[[#This Row],[TOTAL]]=LARGE($Q$37:$Q$50,3),despesafixaconsolidadoanual[[#This Row],[TOTAL]]=LARGE($Q$37:$Q$50,4),despesafixaconsolidadoanual[[#This Row],[TOTAL]]=LARGE($Q$37:$Q$50,5)),DADOS!$I$8,"")) -> 💣 | E38: =despesafixaconsolidado[[#This Row],[TOTAL]] -> 0 | F38: =despesafixaconsolidadofev[[#This Row],[TOTAL]] -> 0 | G38: =despesafixaconsolidadomar[[#This Row],[TOTAL]] -> 352 | H38: =despesafixaconsolidadoabr[[#This Row],[TOTAL]] -> 0 | I38: =despesafixaconsolidadomai[[#This Row],[TOTAL]] -> 0 | J38: =despesafixaconsolidadojun[[#This Row],[TOTAL]] -> 0 | K38: =despesafixaconsolidadojul[[#This Row],[TOTAL]] -> 0 | L38: =despesafixaconsolidadoago[[#This Row],[TOTAL]] -> 0 | M38: =despesafixaconsolidadoset[[#This Row],[TOTAL]] -> 0 | N38: =despesafixaconsolidadoout[[#This Row],[TOTAL]] -> 0 | O38: =despesafixaconsolidadonov[[#This Row],[TOTAL]] -> 0 | P38: =despesafixaconsolidadodez[[#This Row],[TOTAL]] -> 0 | Q38: =SUM(despesafixaconsolidadoanual[[#This Row],[1]:[12]]) -> 352 | AO38: =SUMIFS(tabela_registros[VALOR],tabela_registros[MÊS],$AE$1,tabela_registros[REGISTRO],DADOS!$N$4,tabela_registros[TIPO],DADOS!$P$3,tabela_registros[CATEGORIA],despesafixaconsolidadodez[[#This Row],[DESPESA FIXA]],#REF!,DADOS!$J$4) -> #REF! | AP38: =SUMIFS(tabela_registros[VALOR],tabela_registros[MÊS],$AE$1,tabela_registros[REGISTRO],DADOS!$N$4,tabela_registros[TIPO],DADOS!$P$3,tabela_registros[CATEGORIA],despesafixaconsolidadodez[[#This Row],[DESPESA FIXA]],#REF!,DADOS!$J$3) -> #REF! | AQ38: =(despesafixaconsolidadoanual[[#This Row],[TOTAL]]*$AQ$51)/$Q$51 -> 0.32021625
C39: =DADOS!$R$5 -> 🔖 ASSINATURAS E SERVIÇOS | D39: =IF(despesafixaconsolidadoanual[[#This Row],[TOTAL]]=0,"",IF(OR(despesafixaconsolidadoanual[[#This Row],[TOTAL]]=LARGE($Q$37:$Q$50,1),despesafixaconsolidadoanual[[#This Row],[TOTAL]]=LARGE($Q$37:$Q$50,2),despesafixaconsolidadoanual[[#This Row],[TOTAL]]=LARGE($Q$37:$Q$50,3),despesafixaconsolidadoanual[[#This Row],[TOTAL]]=LARGE($Q$37:$Q$50,4),despesafixaconsolidadoanual[[#This Row],[TOTAL]]=LARGE($Q$37:$Q$50,5)),DADOS!$I$8,"")) -> 💣 | E39: =despesafixaconsolidado[[#This Row],[TOTAL]] -> 100.42857 | F39: =despesafixaconsolidadofev[[#This Row],[TOTAL]] -> 0 | G39: =despesafixaconsolidadomar[[#This Row],[TOTAL]] -> 0 | H39: =despesafixaconsolidadoabr[[#This Row],[TOTAL]] -> 0 | I39: =despesafixaconsolidadomai[[#This Row],[TOTAL]] -> 0 | J39: =despesafixaconsolidadojun[[#This Row],[TOTAL]] -> 0 | K39: =despesafixaconsolidadojul[[#This Row],[TOTAL]] -> 0 | L39: =despesafixaconsolidadoago[[#This Row],[TOTAL]] -> 0 | M39: =despesafixaconsolidadoset[[#This Row],[TOTAL]] -> 0 | N39: =despesafixaconsolidadoout[[#This Row],[TOTAL]] -> 0 | O39: =despesafixaconsolidadonov[[#This Row],[TOTAL]] -> 0 | P39: =despesafixaconsolidadodez[[#This Row],[TOTAL]] -> 0 | Q39: =SUM(despesafixaconsolidadoanual[[#This Row],[1]:[12]]) -> 100.42857 | AO39: =SUMIFS(tabela_registros[VALOR],tabela_registros[MÊS],$AE$1,tabela_registros[REGISTRO],DADOS!$N$4,tabela_registros[TIPO],DADOS!$P$3,tabela_registros[CATEGORIA],despesafixaconsolidadodez[[#This Row],[DESPESA FIXA]],#REF!,DADOS!$J$4) -> #REF! | AP39: =SUMIFS(tabela_registros[VALOR],tabela_registros[MÊS],$AE$1,tabela_registros[REGISTRO],DADOS!$N$4,tabela_registros[TIPO],DADOS!$P$3,tabela_registros[CATEGORIA],despesafixaconsolidadodez[[#This Row],[DESPESA FIXA]],#REF!,DADOS!$J$3) -> #REF! | AQ39: =(despesafixaconsolidadoanual[[#This Row],[TOTAL]]*$AQ$51)/$Q$51 -> 0.091360399
C40: =DADOS!$R$6 -> 📱 CELULAR | D40: =IF(despesafixaconsolidadoanual[[#This Row],[TOTAL]]=0,"",IF(OR(despesafixaconsolidadoanual[[#This Row],[TOTAL]]=LARGE($Q$37:$Q$50,1),despesafixaconsolidadoanual[[#This Row],[TOTAL]]=LARGE($Q$37:$Q$50,2),despesafixaconsolidadoanual[[#This Row],[TOTAL]]=LARGE($Q$37:$Q$50,3),despesafixaconsolidadoanual[[#This Row],[TOTAL]]=LARGE($Q$37:$Q$50,4),despesafixaconsolidadoanual[[#This Row],[TOTAL]]=LARGE($Q$37:$Q$50,5)),DADOS!$I$8,"")) | E40: =despesafixaconsolidado[[#This Row],[TOTAL]] -> 0 | F40: =despesafixaconsolidadofev[[#This Row],[TOTAL]] -> 0 | G40: =despesafixaconsolidadomar[[#This Row],[TOTAL]] -> 0 | H40: =despesafixaconsolidadoabr[[#This Row],[TOTAL]] -> 0 | I40: =despesafixaconsolidadomai[[#This Row],[TOTAL]] -> 0 | J40: =despesafixaconsolidadojun[[#This Row],[TOTAL]] -> 0 | K40: =despesafixaconsolidadojul[[#This Row],[TOTAL]] -> 0 | L40: =despesafixaconsolidadoago[[#This Row],[TOTAL]] -> 0 | M40: =despesafixaconsolidadoset[[#This Row],[TOTAL]] -> 0 | N40: =despesafixaconsolidadoout[[#This Row],[TOTAL]] -> 69.9 | O40: =despesafixaconsolidadonov[[#This Row],[TOTAL]] -> 0 | P40: =despesafixaconsolidadodez[[#This Row],[TOTAL]] -> 0 | Q40: =SUM(despesafixaconsolidadoanual[[#This Row],[1]:[12]]) -> 69.9 | AO40: =SUMIFS(tabela_registros[VALOR],tabela_registros[MÊS],$AE$1,tabela_registros[REGISTRO],DADOS!$N$4,tabela_registros[TIPO],DADOS!$P$3,tabela_registros[CATEGORIA],despesafixaconsolidadodez[[#This Row],[DESPESA FIXA]],#REF!,DADOS!$J$4) -> #REF! | AP40: =SUMIFS(tabela_registros[VALOR],tabela_registros[MÊS],$AE$1,tabela_registros[REGISTRO],DADOS!$N$4,tabela_registros[TIPO],DADOS!$P$3,tabela_registros[CATEGORIA],despesafixaconsolidadodez[[#This Row],[DESPESA FIXA]],#REF!,DADOS!$J$3) -> #REF! | AQ40: =(despesafixaconsolidadoanual[[#This Row],[TOTAL]]*$AQ$51)/$Q$51 -> 0.063588397
C41: =DADOS!$R$7 -> 📖 EDUCAÇÃO | D41: =IF(despesafixaconsolidadoanual[[#This Row],[TOTAL]]=0,"",IF(OR(despesafixaconsolidadoanual[[#This Row],[TOTAL]]=LARGE($Q$37:$Q$50,1),despesafixaconsolidadoanual[[#This Row],[TOTAL]]=LARGE($Q$37:$Q$50,2),despesafixaconsolidadoanual[[#This Row],[TOTAL]]=LARGE($Q$37:$Q$50,3),despesafixaconsolidadoanual[[#This Row],[TOTAL]]=LARGE($Q$37:$Q$50,4),despesafixaconsolidadoanual[[#This Row],[TOTAL]]=LARGE($Q$37:$Q$50,5)),DADOS!$I$8,"")) | E41: =despesafixaconsolidado[[#This Row],[TOTAL]] -> 0 | F41: =despesafixaconsolidadofev[[#This Row],[TOTAL]] -> 0 | G41: =despesafixaconsolidadomar[[#This Row],[TOTAL]] -> 0 | H41: =despesafixaconsolidadoabr[[#This Row],[TOTAL]] -> 0 | I41: =despesafixaconsolidadomai[[#This Row],[TOTAL]] -> 0 | J41: =despesafixaconsolidadojun[[#This Row],[TOTAL]] -> 0 | K41: =despesafixaconsolidadojul[[#This Row],[TOTAL]] -> 0 | L41: =despesafixaconsolidadoago[[#This Row],[TOTAL]] -> 0 | M41: =despesafixaconsolidadoset[[#This Row],[TOTAL]] -> 0 | N41: =despesafixaconsolidadoout[[#This Row],[TOTAL]] -> 0 | O41: =despesafixaconsolidadonov[[#This Row],[TOTAL]] -> 0 | P41: =despesafixaconsolidadodez[[#This Row],[TOTAL]] -> 0 | Q41: =SUM(despesafixaconsolidadoanual[[#This Row],[1]:[12]]) -> 0 | AO41: =SUMIFS(tabela_registros[VALOR],tabela_registros[MÊS],$AE$1,tabela_registros[REGISTRO],DADOS!$N$4,tabela_registros[TIPO],DADOS!$P$3,tabela_registros[CATEGORIA],despesafixaconsolidadodez[[#This Row],[DESPESA FIXA]],#REF!,DADOS!$J$4) -> #REF! | AP41: =SUMIFS(tabela_registros[VALOR],tabela_registros[MÊS],$AE$1,tabela_registros[REGISTRO],DADOS!$N$4,tabela_registros[TIPO],DADOS!$P$3,tabela_registros[CATEGORIA],despesafixaconsolidadodez[[#This Row],[DESPESA FIXA]],#REF!,DADOS!$J$3) -> #REF! | AQ41: =(despesafixaconsolidadoanual[[#This Row],[TOTAL]]*$AQ$51)/$Q$51 -> 0
C42: =DADOS!$R$8 -> 🏦 EMPRÉSTIMO | D42: =IF(despesafixaconsolidadoanual[[#This Row],[TOTAL]]=0,"",IF(OR(despesafixaconsolidadoanual[[#This Row],[TOTAL]]=LARGE($Q$37:$Q$50,1),despesafixaconsolidadoanual[[#This Row],[TOTAL]]=LARGE($Q$37:$Q$50,2),despesafixaconsolidadoanual[[#This Row],[TOTAL]]=LARGE($Q$37:$Q$50,3),despesafixaconsolidadoanual[[#This Row],[TOTAL]]=LARGE($Q$37:$Q$50,4),despesafixaconsolidadoanual[[#This Row],[TOTAL]]=LARGE($Q$37:$Q$50,5)),DADOS!$I$8,"")) | E42: =despesafixaconsolidado[[#This Row],[TOTAL]] -> 0 | F42: =despesafixaconsolidadofev[[#This Row],[TOTAL]] -> 0 | G42: =despesafixaconsolidadomar[[#This Row],[TOTAL]] -> 0 | H42: =despesafixaconsolidadoabr[[#This Row],[TOTAL]] -> 0 | I42: =despesafixaconsolidadomai[[#This Row],[TOTAL]] -> 0 | J42: =despesafixaconsolidadojun[[#This Row],[TOTAL]] -> 0 | K42: =despesafixaconsolidadojul[[#This Row],[TOTAL]] -> 0 | L42: =despesafixaconsolidadoago[[#This Row],[TOTAL]] -> 0 | M42: =despesafixaconsolidadoset[[#This Row],[TOTAL]] -> 0 | N42: =despesafixaconsolidadoout[[#This Row],[TOTAL]] -> 0 | O42: =despesafixaconsolidadonov[[#This Row],[TOTAL]] -> 0 | P42: =despesafixaconsolidadodez[[#This Row],[TOTAL]] -> 0 | Q42: =SUM(despesafixaconsolidadoanual[[#This Row],[1]:[12]]) -> 0 | AO42: =SUMIFS(tabela_registros[VALOR],tabela_registros[MÊS],$AE$1,tabela_registros[REGISTRO],DADOS!$N$4,tabela_registros[TIPO],DADOS!$P$3,tabela_registros[CATEGORIA],despesafixaconsolidadodez[[#This Row],[DESPESA FIXA]],#REF!,DADOS!$J$4) -> #REF! | AP42: =SUMIFS(tabela_registros[VALOR],tabela_registros[MÊS],$AE$1,tabela_registros[REGISTRO],DADOS!$N$4,tabela_registros[TIPO],DADOS!$P$3,tabela_registros[CATEGORIA],despesafixaconsolidadodez[[#This Row],[DESPESA FIXA]],#REF!,DADOS!$J$3) -> #REF! | AQ42: =(despesafixaconsolidadoanual[[#This Row],[TOTAL]]*$AQ$51)/$Q$51 -> 0
C43: =DADOS!$R$9 -> 💡 ENERGIA | D43: =IF(despesafixaconsolidadoanual[[#This Row],[TOTAL]]=0,"",IF(OR(despesafixaconsolidadoanual[[#This Row],[TOTAL]]=LARGE($Q$37:$Q$50,1),despesafixaconsolidadoanual[[#This Row],[TOTAL]]=LARGE($Q$37:$Q$50,2),despesafixaconsolidadoanual[[#This Row],[TOTAL]]=LARGE($Q$37:$Q$50,3),despesafixaconsolidadoanual[[#This Row],[TOTAL]]=LARGE($Q$37:$Q$50,4),despesafixaconsolidadoanual[[#This Row],[TOTAL]]=LARGE($Q$37:$Q$50,5)),DADOS!$I$8,"")) -> 💣 | E43: =despesafixaconsolidado[[#This Row],[TOTAL]] -> 0 | F43: =despesafixaconsolidadofev[[#This Row],[TOTAL]] -> 115.14286 | G43: =despesafixaconsolidadomar[[#This Row],[TOTAL]] -> 0 | H43: =despesafixaconsolidadoabr[[#This Row],[TOTAL]] -> 0 | I43: =despesafixaconsolidadomai[[#This Row],[TOTAL]] -> 0 | J43: =despesafixaconsolidadojun[[#This Row],[TOTAL]] -> 0 | K43: =despesafixaconsolidadojul[[#This Row],[TOTAL]] -> 0 | L43: =despesafixaconsolidadoago[[#This Row],[TOTAL]] -> 0 | M43: =despesafixaconsolidadoset[[#This Row],[TOTAL]] -> 0 | N43: =despesafixaconsolidadoout[[#This Row],[TOTAL]] -> 0 | O43: =despesafixaconsolidadonov[[#This Row],[TOTAL]] -> 140 | P43: =despesafixaconsolidadodez[[#This Row],[TOTAL]] -> 0 | Q43: =SUM(despesafixaconsolidadoanual[[#This Row],[1]:[12]]) -> 255.14286 | AO43: =SUMIFS(tabela_registros[VALOR],tabela_registros[MÊS],$AE$1,tabela_registros[REGISTRO],DADOS!$N$4,tabela_registros[TIPO],DADOS!$P$3,tabela_registros[CATEGORIA],despesafixaconsolidadodez[[#This Row],[DESPESA FIXA]],#REF!,DADOS!$J$4) -> #REF! | AP43: =SUMIFS(tabela_registros[VALOR],tabela_registros[MÊS],$AE$1,tabela_registros[REGISTRO],DADOS!$N$4,tabela_registros[TIPO],DADOS!$P$3,tabela_registros[CATEGORIA],despesafixaconsolidadodez[[#This Row],[DESPESA FIXA]],#REF!,DADOS!$J$3) -> #REF! | AQ43: =(despesafixaconsolidadoanual[[#This Row],[TOTAL]]*$AQ$51)/$Q$51 -> 0.2321048
C44: =DADOS!$R$10 -> 👨‍👩‍👧 FAMÍLIA | D44: =IF(despesafixaconsolidadoanual[[#This Row],[TOTAL]]=0,"",IF(OR(despesafixaconsolidadoanual[[#This Row],[TOTAL]]=LARGE($Q$37:$Q$50,1),despesafixaconsolidadoanual[[#This Row],[TOTAL]]=LARGE($Q$37:$Q$50,2),despesafixaconsolidadoanual[[#This Row],[TOTAL]]=LARGE($Q$37:$Q$50,3),despesafixaconsolidadoanual[[#This Row],[TOTAL]]=LARGE($Q$37:$Q$50,4),despesafixaconsolidadoanual[[#This Row],[TOTAL]]=LARGE($Q$37:$Q$50,5)),DADOS!$I$8,"")) | E44: =despesafixaconsolidado[[#This Row],[TOTAL]] -> 0 | F44: =despesafixaconsolidadofev[[#This Row],[TOTAL]] -> 0 | G44: =despesafixaconsolidadomar[[#This Row],[TOTAL]] -> 0 | H44: =despesafixaconsolidadoabr[[#This Row],[TOTAL]] -> 0 | I44: =despesafixaconsolidadomai[[#This Row],[TOTAL]] -> 0 | J44: =despesafixaconsolidadojun[[#This Row],[TOTAL]] -> 0 | K44: =despesafixaconsolidadojul[[#This Row],[TOTAL]] -> 0 | L44: =despesafixaconsolidadoago[[#This Row],[TOTAL]] -> 0 | M44: =despesafixaconsolidadoset[[#This Row],[TOTAL]] -> 0 | N44: =despesafixaconsolidadoout[[#This Row],[TOTAL]] -> 0 | O44: =despesafixaconsolidadonov[[#This Row],[TOTAL]] -> 0 | P44: =despesafixaconsolidadodez[[#This Row],[TOTAL]] -> 0 | Q44: =SUM(despesafixaconsolidadoanual[[#This Row],[1]:[12]]) -> 0 | AO44: =SUMIFS(tabela_registros[VALOR],tabela_registros[MÊS],$AE$1,tabela_registros[REGISTRO],DADOS!$N$4,tabela_registros[TIPO],DADOS!$P$3,tabela_registros[CATEGORIA],despesafixaconsolidadodez[[#This Row],[DESPESA FIXA]],#REF!,DADOS!$J$4) -> #REF! | AP44: =SUMIFS(tabela_registros[VALOR],tabela_registros[MÊS],$AE$1,tabela_registros[REGISTRO],DADOS!$N$4,tabela_registros[TIPO],DADOS!$P$3,tabela_registros[CATEGORIA],despesafixaconsolidadodez[[#This Row],[DESPESA FIXA]],#REF!,DADOS!$J$3) -> #REF! | AQ44: =(despesafixaconsolidadoanual[[#This Row],[TOTAL]]*$AQ$51)/$Q$51 -> 0
C45: =DADOS!$R$11 -> 🔢 IMPOSTOS | D45: =IF(despesafixaconsolidadoanual[[#This Row],[TOTAL]]=0,"",IF(OR(despesafixaconsolidadoanual[[#This Row],[TOTAL]]=LARGE($Q$37:$Q$50,1),despesafixaconsolidadoanual[[#This Row],[TOTAL]]=LARGE($Q$37:$Q$50,2),despesafixaconsolidadoanual[[#This Row],[TOTAL]]=LARGE($Q$37:$Q$50,3),despesafixaconsolidadoanual[[#This Row],[TOTAL]]=LARGE($Q$37:$Q$50,4),despesafixaconsolidadoanual[[#This Row],[TOTAL]]=LARGE($Q$37:$Q$50,5)),DADOS!$I$8,"")) -> 💣 | E45: =despesafixaconsolidado[[#This Row],[TOTAL]] -> 107.78571 | F45: =despesafixaconsolidadofev[[#This Row],[TOTAL]] -> 0 | G45: =despesafixaconsolidadomar[[#This Row],[TOTAL]] -> 0 | H45: =despesafixaconsolidadoabr[[#This Row],[TOTAL]] -> 0 | I45: =despesafixaconsolidadomai[[#This Row],[TOTAL]] -> 0 | J45: =despesafixaconsolidadojun[[#This Row],[TOTAL]] -> 0 | K45: =despesafixaconsolidadojul[[#This Row],[TOTAL]] -> 0 | L45: =despesafixaconsolidadoago[[#This Row],[TOTAL]] -> 0 | M45: =despesafixaconsolidadoset[[#This Row],[TOTAL]] -> 0 | N45: =despesafixaconsolidadoout[[#This Row],[TOTAL]] -> 0 | O45: =despesafixaconsolidadonov[[#This Row],[TOTAL]] -> 0 | P45: =despesafixaconsolidadodez[[#This Row],[TOTAL]] -> 0 | Q45: =SUM(despesafixaconsolidadoanual[[#This Row],[1]:[12]]) -> 107.78571 | AO45: =SUMIFS(tabela_registros[VALOR],tabela_registros[MÊS],$AE$1,tabela_registros[REGISTRO],DADOS!$N$4,tabela_registros[TIPO],DADOS!$P$3,tabela_registros[CATEGORIA],despesafixaconsolidadodez[[#This Row],[DESPESA FIXA]],#REF!,DADOS!$J$4) -> #REF! | AP45: =SUMIFS(tabela_registros[VALOR],tabela_registros[MÊS],$AE$1,tabela_registros[REGISTRO],DADOS!$N$4,tabela_registros[TIPO],DADOS!$P$3,tabela_registros[CATEGORIA],despesafixaconsolidadodez[[#This Row],[DESPESA FIXA]],#REF!,DADOS!$J$3) -> #REF! | AQ45: =(despesafixaconsolidadoanual[[#This Row],[TOTAL]]*$AQ$51)/$Q$51 -> 0.098053231
C46: =DADOS!$R$12 -> 🖱️ INTERNET | D46: =IF(despesafixaconsolidadoanual[[#This Row],[TOTAL]]=0,"",IF(OR(despesafixaconsolidadoanual[[#This Row],[TOTAL]]=LARGE($Q$37:$Q$50,1),despesafixaconsolidadoanual[[#This Row],[TOTAL]]=LARGE($Q$37:$Q$50,2),despesafixaconsolidadoanual[[#This Row],[TOTAL]]=LARGE($Q$37:$Q$50,3),despesafixaconsolidadoanual[[#This Row],[TOTAL]]=LARGE($Q$37:$Q$50,4),despesafixaconsolidadoanual[[#This Row],[TOTAL]]=LARGE($Q$37:$Q$50,5)),DADOS!$I$8,"")) | E46: =despesafixaconsolidado[[#This Row],[TOTAL]] -> 0 | F46: =despesafixaconsolidadofev[[#This Row],[TOTAL]] -> 0 | G46: =despesafixaconsolidadomar[[#This Row],[TOTAL]] -> 0 | H46: =despesafixaconsolidadoabr[[#This Row],[TOTAL]] -> 0 | I46: =despesafixaconsolidadomai[[#This Row],[TOTAL]] -> 0 | J46: =despesafixaconsolidadojun[[#This Row],[TOTAL]] -> 0 | K46: =despesafixaconsolidadojul[[#This Row],[TOTAL]] -> 0 | L46: =despesafixaconsolidadoago[[#This Row],[TOTAL]] -> 0 | M46: =despesafixaconsolidadoset[[#This Row],[TOTAL]] -> 0 | N46: =despesafixaconsolidadoout[[#This Row],[TOTAL]] -> 0 | O46: =despesafixaconsolidadonov[[#This Row],[TOTAL]] -> 0 | P46: =despesafixaconsolidadodez[[#This Row],[TOTAL]] -> 0 | Q46: =SUM(despesafixaconsolidadoanual[[#This Row],[1]:[12]]) -> 0 | AO46: =SUMIFS(tabela_registros[VALOR],tabela_registros[MÊS],$AE$1,tabela_registros[REGISTRO],DADOS!$N$4,tabela_registros[TIPO],DADOS!$P$3,tabela_registros[CATEGORIA],despesafixaconsolidadodez[[#This Row],[DESPESA FIXA]],#REF!,DADOS!$J$4) -> #REF! | AP46: =SUMIFS(tabela_registros[VALOR],tabela_registros[MÊS],$AE$1,tabela_registros[REGISTRO],DADOS!$N$4,tabela_registros[TIPO],DADOS!$P$3,tabela_registros[CATEGORIA],despesafixaconsolidadodez[[#This Row],[DESPESA FIXA]],#REF!,DADOS!$J$3) -> #REF! | AQ46: =(despesafixaconsolidadoanual[[#This Row],[TOTAL]]*$AQ$51)/$Q$51 -> 0
C47: =DADOS!$R$13 -> 🏠 MORADIA | D47: =IF(despesafixaconsolidadoanual[[#This Row],[TOTAL]]=0,"",IF(OR(despesafixaconsolidadoanual[[#This Row],[TOTAL]]=LARGE($Q$37:$Q$50,1),despesafixaconsolidadoanual[[#This Row],[TOTAL]]=LARGE($Q$37:$Q$50,2),despesafixaconsolidadoanual[[#This Row],[TOTAL]]=LARGE($Q$37:$Q$50,3),despesafixaconsolidadoanual[[#This Row],[TOTAL]]=LARGE($Q$37:$Q$50,4),despesafixaconsolidadoanual[[#This Row],[TOTAL]]=LARGE($Q$37:$Q$50,5)),DADOS!$I$8,"")) | E47: =despesafixaconsolidado[[#This Row],[TOTAL]] -> 0 | F47: =despesafixaconsolidadofev[[#This Row],[TOTAL]] -> 0 | G47: =despesafixaconsolidadomar[[#This Row],[TOTAL]] -> 0 | H47: =despesafixaconsolidadoabr[[#This Row],[TOTAL]] -> 0 | I47: =despesafixaconsolidadomai[[#This Row],[TOTAL]] -> 0 | J47: =despesafixaconsolidadojun[[#This Row],[TOTAL]] -> 0 | K47: =despesafixaconsolidadojul[[#This Row],[TOTAL]] -> 0 | L47: =despesafixaconsolidadoago[[#This Row],[TOTAL]] -> 0 | M47: =despesafixaconsolidadoset[[#This Row],[TOTAL]] -> 0 | N47: =despesafixaconsolidadoout[[#This Row],[TOTAL]] -> 0 | O47: =despesafixaconsolidadonov[[#This Row],[TOTAL]] -> 0 | P47: =despesafixaconsolidadodez[[#This Row],[TOTAL]] -> 0 | Q47: =SUM(despesafixaconsolidadoanual[[#This Row],[1]:[12]]) -> 0 | AO47: =SUMIFS(tabela_registros[VALOR],tabela_registros[MÊS],$AE$1,tabela_registros[REGISTRO],DADOS!$N$4,tabela_registros[TIPO],DADOS!$P$3,tabela_registros[CATEGORIA],despesafixaconsolidadodez[[#This Row],[DESPESA FIXA]],#REF!,DADOS!$J$4) -> #REF! | AP47: =SUMIFS(tabela_registros[VALOR],tabela_registros[MÊS],$AE$1,tabela_registros[REGISTRO],DADOS!$N$4,tabela_registros[TIPO],DADOS!$P$3,tabela_registros[CATEGORIA],despesafixaconsolidadodez[[#This Row],[DESPESA FIXA]],#REF!,DADOS!$J$3) -> #REF! | AQ47: =(despesafixaconsolidadoanual[[#This Row],[TOTAL]]*$AQ$51)/$Q$51 -> 0
C48: =DADOS!$R$14 -> 💊 SAÚDE | D48: =IF(despesafixaconsolidadoanual[[#This Row],[TOTAL]]=0,"",IF(OR(despesafixaconsolidadoanual[[#This Row],[TOTAL]]=LARGE($Q$37:$Q$50,1),despesafixaconsolidadoanual[[#This Row],[TOTAL]]=LARGE($Q$37:$Q$50,2),despesafixaconsolidadoanual[[#This Row],[TOTAL]]=LARGE($Q$37:$Q$50,3),despesafixaconsolidadoanual[[#This Row],[TOTAL]]=LARGE($Q$37:$Q$50,4),despesafixaconsolidadoanual[[#This Row],[TOTAL]]=LARGE($Q$37:$Q$50,5)),DADOS!$I$8,"")) | E48: =despesafixaconsolidado[[#This Row],[TOTAL]] -> 0 | F48: =despesafixaconsolidadofev[[#This Row],[TOTAL]] -> 0 | G48: =despesafixaconsolidadomar[[#This Row],[TOTAL]] -> 0 | H48: =despesafixaconsolidadoabr[[#This Row],[TOTAL]] -> 0 | I48: =despesafixaconsolidadomai[[#This Row],[TOTAL]] -> 0 | J48: =despesafixaconsolidadojun[[#This Row],[TOTAL]] -> 0 | K48: =despesafixaconsolidadojul[[#This Row],[TOTAL]] -> 0 | L48: =despesafixaconsolidadoago[[#This Row],[TOTAL]] -> 0 | M48: =despesafixaconsolidadoset[[#This Row],[TOTAL]] -> 0 | N48: =despesafixaconsolidadoout[[#This Row],[TOTAL]] -> 0 | O48: =despesafixaconsolidadonov[[#This Row],[TOTAL]] -> 0 | P48: =despesafixaconsolidadodez[[#This Row],[TOTAL]] -> 0 | Q48: =SUM(despesafixaconsolidadoanual[[#This Row],[1]:[12]]) -> 0 | AO48: =SUMIFS(tabela_registros[VALOR],tabela_registros[MÊS],$AE$1,tabela_registros[REGISTRO],DADOS!$N$4,tabela_registros[TIPO],DADOS!$P$3,tabela_registros[CATEGORIA],despesafixaconsolidadodez[[#This Row],[DESPESA FIXA]],#REF!,DADOS!$J$4) -> #REF! | AP48: =SUMIFS(tabela_registros[VALOR],tabela_registros[MÊS],$AE$1,tabela_registros[REGISTRO],DADOS!$N$4,tabela_registros[TIPO],DADOS!$P$3,tabela_registros[CATEGORIA],despesafixaconsolidadodez[[#This Row],[DESPESA FIXA]],#REF!,DADOS!$J$3) -> #REF! | AQ48: =(despesafixaconsolidadoanual[[#This Row],[TOTAL]]*$AQ$51)/$Q$51 -> 0
C49: =DADOS!$R$15 -> 📞 TELEFONE | D49: =IF(despesafixaconsolidadoanual[[#This Row],[TOTAL]]=0,"",IF(OR(despesafixaconsolidadoanual[[#This Row],[TOTAL]]=LARGE($Q$37:$Q$50,1),despesafixaconsolidadoanual[[#This Row],[TOTAL]]=LARGE($Q$37:$Q$50,2),despesafixaconsolidadoanual[[#This Row],[TOTAL]]=LARGE($Q$37:$Q$50,3),despesafixaconsolidadoanual[[#This Row],[TOTAL]]=LARGE($Q$37:$Q$50,4),despesafixaconsolidadoanual[[#This Row],[TOTAL]]=LARGE($Q$37:$Q$50,5)),DADOS!$I$8,"")) | E49: =despesafixaconsolidado[[#This Row],[TOTAL]] -> 0 | F49: =despesafixaconsolidadofev[[#This Row],[TOTAL]] -> 0 | G49: =despesafixaconsolidadomar[[#This Row],[TOTAL]] -> 0 | H49: =despesafixaconsolidadoabr[[#This Row],[TOTAL]] -> 0 | I49: =despesafixaconsolidadomai[[#This Row],[TOTAL]] -> 0 | J49: =despesafixaconsolidadojun[[#This Row],[TOTAL]] -> 0 | K49: =despesafixaconsolidadojul[[#This Row],[TOTAL]] -> 0 | L49: =despesafixaconsolidadoago[[#This Row],[TOTAL]] -> 0 | M49: =despesafixaconsolidadoset[[#This Row],[TOTAL]] -> 0 | N49: =despesafixaconsolidadoout[[#This Row],[TOTAL]] -> 0 | O49: =despesafixaconsolidadonov[[#This Row],[TOTAL]] -> 0 | P49: =despesafixaconsolidadodez[[#This Row],[TOTAL]] -> 0 | Q49: =SUM(despesafixaconsolidadoanual[[#This Row],[1]:[12]]) -> 0 | AO49: =SUMIFS(tabela_registros[VALOR],tabela_registros[MÊS],$AE$1,tabela_registros[REGISTRO],DADOS!$N$4,tabela_registros[TIPO],DADOS!$P$3,tabela_registros[CATEGORIA],despesafixaconsolidadodez[[#This Row],[DESPESA FIXA]],#REF!,DADOS!$J$4) -> #REF! | AP49: =SUMIFS(tabela_registros[VALOR],tabela_registros[MÊS],$AE$1,tabela_registros[REGISTRO],DADOS!$N$4,tabela_registros[TIPO],DADOS!$P$3,tabela_registros[CATEGORIA],despesafixaconsolidadodez[[#This Row],[DESPESA FIXA]],#REF!,DADOS!$J$3) -> #REF! | AQ49: =(despesafixaconsolidadoanual[[#This Row],[TOTAL]]*$AQ$51)/$Q$51 -> 0
C50: =DADOS!$R$16 -> 📎 OUTROS | D50: =IF(despesafixaconsolidadoanual[[#This Row],[TOTAL]]=0,"",IF(OR(despesafixaconsolidadoanual[[#This Row],[TOTAL]]=LARGE($Q$37:$Q$50,1),despesafixaconsolidadoanual[[#This Row],[TOTAL]]=LARGE($Q$37:$Q$50,2),despesafixaconsolidadoanual[[#This Row],[TOTAL]]=LARGE($Q$37:$Q$50,3),despesafixaconsolidadoanual[[#This Row],[TOTAL]]=LARGE($Q$37:$Q$50,4),despesafixaconsolidadoanual[[#This Row],[TOTAL]]=LARGE($Q$37:$Q$50,5)),DADOS!$I$8,"")) | E50: =despesafixaconsolidado[[#This Row],[TOTAL]] -> 0 | F50: =despesafixaconsolidadofev[[#This Row],[TOTAL]] -> 0 | G50: =despesafixaconsolidadomar[[#This Row],[TOTAL]] -> 0 | H50: =despesafixaconsolidadoabr[[#This Row],[TOTAL]] -> 0 | I50: =despesafixaconsolidadomai[[#This Row],[TOTAL]] -> 0 | J50: =despesafixaconsolidadojun[[#This Row],[TOTAL]] -> 0 | K50: =despesafixaconsolidadojul[[#This Row],[TOTAL]] -> 0 | L50: =despesafixaconsolidadoago[[#This Row],[TOTAL]] -> 0 | M50: =despesafixaconsolidadoset[[#This Row],[TOTAL]] -> 0 | N50: =despesafixaconsolidadoout[[#This Row],[TOTAL]] -> 0 | O50: =despesafixaconsolidadonov[[#This Row],[TOTAL]] -> 0 | P50: =despesafixaconsolidadodez[[#This Row],[TOTAL]] -> 0 | Q50: =SUM(despesafixaconsolidadoanual[[#This Row],[1]:[12]]) -> 0 | AN50: % total | AO50: =SUMIFS(tabela_registros[VALOR],tabela_registros[MÊS],$AE$1,tabela_registros[REGISTRO],DADOS!$N$4,tabela_registros[TIPO],DADOS!$P$3,tabela_registros[CATEGORIA],despesafixaconsolidadodez[[#This Row],[DESPESA FIXA]],#REF!,DADOS!$J$4) -> #REF! | AP50: =SUMIFS(tabela_registros[VALOR],tabela_registros[MÊS],$AE$1,tabela_registros[REGISTRO],DADOS!$N$4,tabela_registros[TIPO],DADOS!$P$3,tabela_registros[CATEGORIA],despesafixaconsolidadodez[[#This Row],[DESPESA FIXA]],#REF!,DADOS!$J$3) -> #REF! | AQ50: =(despesafixaconsolidadoanual[[#This Row],[TOTAL]]*$AQ$51)/$Q$51 -> 0
C51: TOTAL | D51: =IF(despesafixaconsolidadoanual[[#This Row],[TOTAL]]=0,"",IF(OR(despesafixaconsolidadoanual[[#This Row],[TOTAL]]=SMALL($Q$37:$Q$50,1),despesafixaconsolidadoanual[[#This Row],[TOTAL]]=SMALL($Q$37:$Q$50,2),despesafixaconsolidadoanual[[#This Row],[TOTAL]]=SMALL($Q$37:$Q$50,3),despesafixaconsolidadoanual[[#This Row],[TOTAL]]=SMALL($Q$37:$Q$50,4),despesafixaconsolidadoanual[[#This Row],[TOTAL]]=SMALL($Q$37:$Q$50,5)),DADOS!$I$8,"")) | E51: =despesafixaconsolidado[[#This Row],[TOTAL]] -> 297.21429 | F51: =despesafixaconsolidadofev[[#This Row],[TOTAL]]+despesafixaconsolidadoanual[[#This Row],[1]] -> 412.35714 | G51: =despesafixaconsolidadomar[[#This Row],[TOTAL]]+despesafixaconsolidadoanual[[#This Row],[2]] -> 764.35714 | H51: =despesafixaconsolidadoabr[[#This Row],[TOTAL]]+despesafixaconsolidadoanual[[#This Row],[3]] -> 889.35714 | I51: =despesafixaconsolidadomai[[#This Row],[TOTAL]]+despesafixaconsolidadoanual[[#This Row],[4]] -> 889.35714 | J51: =despesafixaconsolidadojun[[#This Row],[TOTAL]]+despesafixaconsolidadoanual[[#This Row],[5]] -> 889.35714 | K51: =despesafixaconsolidadojul[[#This Row],[TOTAL]]+despesafixaconsolidadoanual[[#This Row],[6]] -> 889.35714 | L51: =despesafixaconsolidadoago[[#This Row],[TOTAL]]+despesafixaconsolidadoanual[[#This Row],[7]] -> 889.35714 | M51: =despesafixaconsolidadoset[[#This Row],[TOTAL]]+despesafixaconsolidadoanual[[#This Row],[8]] -> 889.35714 | N51: =despesafixaconsolidadoout[[#This Row],[TOTAL]]+despesafixaconsolidadoanual[[#This Row],[9]] -> 959.25714 | O51: =despesafixaconsolidadonov[[#This Row],[TOTAL]]+despesafixaconsolidadoanual[[#This Row],[10]] -> 1099.2571 | P51: =despesafixaconsolidadodez[[#This Row],[TOTAL]]+despesafixaconsolidadoanual[[#This Row],[11]] -> 1099.2571 | Q51: =despesafixaconsolidadoanual[[#This Row],[12]] -> 1099.2571 | AN51: =despesafixaconsolidadoanual[[#This Row],[TOTAL]]/$Q$15 -> 0.31450608 | AO51: =SUM(AO37:AO50) -> #REF! | AP51: =SUM(AP37:AP50) -> #REF! | AQ51: =1 -> 1
Q56: TOTAL
...

Sheet 1
AD1: MÊS | AE1: 1 | AH1: VALOR INICIAL CAIXA | AI1: =IF('⚙️'!$Q$3=$AE$1,'⚙️'!$F$13,0) -> 350
C2: JANEIRO
E3: DISPONÍVEL | I3: GANHEI | M3: GASTEI | Q3: INVESTI | U3: RESERVEI | Z3: REGISTROS | AC3: RADAR | AF3: ANUAL
E4: =$AJ$16 -> 57.214286 | I4: =$AJ$14 -> 932.35714 | M4: =$AJ$15 -> 1225.1429 | Q4: =$AJ$25 -> 730.64286 | U4: =$AJ$26 -> 2502
E6: 1 | F6: 2 | G6: 3 | H6: 4 | I6: 5 | J6: 6 | K6: 7 | L6: 8 | M6: 9 | N6: 10 | O6: 11 | P6: 12 | Q6: 13 | R6: 14 | S6: 15 | T6: 16 | U6: 17 | V6: 18 | W6: 19 | X6: 20 | Y6: 21 | Z6: 22 | AA6: 23 | AB6: 24 | AC6: 25 | AD6: 26 | AE6: 27 | AF6: 28 | AG6: 29 | AH6: 30 | AI6: 31
AJ10: TOTAL
AJ11: 🔽
C13: ATUAL | D13: Coluna1 | E13: 1 | F13: 2 | G13: 3 | H13: 4 | I13: 5 | J13: 6 | K13: 7 | L13: 8 | M13: 9 | N13: 10 | O13: 11 | P13: 12 | Q13: 13 | R13: 14 | S13: 15 | T13: 16 | U13: 17 | V13: 18 | W13: 19 | X13: 20 | Y13: 21 | Z13: 22 | AA13: 23 | AB13: 24 | AC13: 25 | AD13: 26 | AE13: 27 | AF13: 28 | AG13: 29 | AH13: 30 | AI13: 31 | AJ13: TOTAL (R$)
C14: RECEITAS | E14: =SUMIFS(tabela_registros[VALOR],tabela_registros[MÊS],$AE$1,tabela_registros[DIA],jantotal[[#Headers],[1]],tabela_registros[REGISTRO],DADOS!$N$3) -> 0 | F14: =SUMIFS(tabela_registros[VALOR],tabela_registros[MÊS],$AE$1,tabela_registros[DIA],jantotal[[#Headers],[2]],tabela_registros[REGISTRO],DADOS!$N$3) -> 0 | G14: =SUMIFS(tabela_registros[VALOR],tabela_registros[MÊS],$AE$1,tabela_registros[DIA],jantotal[[#Headers],[3]],tabela_registros[REGISTRO],DADOS!$N$3) -> 0 | H14: =SUMIFS(tabela_registros[VALOR],tabela_registros[MÊS],$AE$1,tabela_registros[DIA],jantotal[[#Headers],[4]],tabela_registros[REGISTRO],DADOS!$N$3) -> 250 | I14: =SUMIFS(tabela_registros[VALOR],tabela_registros[MÊS],$AE$1,tabela_registros[DIA],jantotal[[#Headers],[5]],tabela_registros[REGISTRO],DADOS!$N$3) -> 0 | J14: =SUMIFS(tabela_registros[VALOR],tabela_registros[MÊS],$AE$1,tabela_registros[DIA],jantotal[[#Headers],[6]],tabela_registros[REGISTRO],DADOS!$N$3) -> 0 | K14: =SUMIFS(tabela_registros[VALOR],tabela_registros[MÊS],$AE$1,tabela_registros[DIA],jantotal[[#Headers],[7]],tabela_registros[REGISTRO],DADOS!$N$3) -> 0 | L14: =SUMIFS(tabela_registros[VALOR],tabela_registros[MÊS],$AE$1,tabela_registros[DIA],jantotal[[#Headers],[8]],tabela_registros[REGISTRO],DADOS!$N$3) -> 0 | M14: =SUMIFS(tabela_registros[VALOR],tabela_registros[MÊS],$AE$1,tabela_registros[DIA],jantotal[[#Headers],[9]],tabela_registros[REGISTRO],DADOS!$N$3) -> 0 | N14: =SUMIFS(tabela_registros[VALOR],tabela_registros[MÊS],$AE$1,tabela_registros[DIA],jantotal[[#Headers],[10]],tabela_registros[REGISTRO],DADOS!$N$3) -> 129.85714 | O14: =SUMIFS(tabela_registros[VALOR],tabela_registros[MÊS],$AE$1,tabela_registros[DIA],jantotal[[#Headers],[11]],tabela_registros[REGISTRO],DADOS!$N$3) -> 122.5 | P14: =SUMIFS(tabela_registros[VALOR],tabela_registros[MÊS],$AE$1,tabela_registros[DIA],jantotal[[#Headers],[12]],tabela_registros[REGISTRO],DADOS!$N$3) -> 0 | Q14: =SUMIFS(tabela_registros[VALOR],tabela_registros[MÊS],$AE$1,tabela_registros[DIA],jantotal[[#Headers],[13]],tabela_registros[REGISTRO],DADOS!$N$3) -> 0 | R14: =SUMIFS(tabela_registros[VALOR],tabela_registros[MÊS],$AE$1,tabela_registros[DIA],jantotal[[#Headers],[14]],tabela_registros[REGISTRO],DADOS!$N$3) -> 0 | S14: =SUMIFS(tabela_registros[VALOR],tabela_registros[MÊS],$AE$1,tabela_registros[DIA],jantotal[[#Headers],[15]],tabela_registros[REGISTRO],DADOS!$N$3) -> 0 | T14: =SUMIFS(tabela_registros[VALOR],tabela_registros[MÊS],$AE$1,tabela_registros[DIA],jantotal[[#Headers],[16]],tabela_registros[REGISTRO],DADOS!$N$3) -> 0 | U14: =SUMIFS(tabela_registros[VALOR],tabela_registros[MÊS],$AE$1,tabela_registros[DIA],jantotal[[#Headers],[17]],tabela_registros[REGISTRO],DADOS!$N$3) -> 0 | V14: =SUMIFS(tabela_registros[VALOR],tabela_registros[MÊS],$AE$1,tabela_registros[DIA],jantotal[[#Headers],[18]],tabela_registros[REGISTRO],DADOS!$N$3) -> 0 | W14: =SUMIFS(tabela_registros[VALOR],tabela_registros[MÊS],$AE$1,tabela_registros[DIA],jantotal[[#Headers],[19]],tabela_registros[REGISTRO],DADOS!$N$3) -> 0 | X14: =SUMIFS(tabela_registros[VALOR],tabela_registros[MÊS],$AE$1,tabela_registros[DIA],jantotal[[#Headers],[20]],tabela_registros[REGISTRO],DADOS!$N$3) -> 0 | Y14: =SUMIFS(tabela_registros[VALOR],tabela_registros[MÊS],$AE$1,tabela_registros[DIA],jantotal[[#Headers],[21]],tabela_registros[REGISTRO],DADOS!$N$3) -> 0 | Z14: =SUMIFS(tabela_registros[VALOR],tabela_registros[MÊS],$AE$1,tabela_registros[DIA],jantotal[[#Headers],[22]],tabela_registros[REGISTRO],DADOS!$N$3) -> 0 | AA14: =SUMIFS(tabela_registros[VALOR],tabela_registros[MÊS],$AE$1,tabela_registros[DIA],jantotal[[#Headers],[23]],tabela_registros[REGISTRO],DADOS!$N$3) -> 0 | AB14: =SUMIFS(tabela_registros[VALOR],tabela_registros[MÊS],$AE$1,tabela_registros[DIA],jantotal[[#Headers],[24]],tabela_registros[REGISTRO],DADOS!$N$3) -> 0 | AC14: =SUMIFS(tabela_registros[VALOR],tabela_registros[MÊS],$AE$1,tabela_registros[DIA],jantotal[[#Headers],[25]],tabela_registros[REGISTRO],DADOS!$N$3) -> 0 | AD14: =SUMIFS(tabela_registros[VALOR],tabela_registros[MÊS],$AE$1,tabela_registros[DIA],jantotal[[#Headers],[26]],tabela_registros[REGISTRO],DADOS!$N$3) -> 0 | AE14: =SUMIFS(tabela_registros[VALOR],tabela_registros[MÊS],$AE$1,tabela_registros[DIA],jantotal[[#Headers],[27]],tabela_registros[REGISTRO],DADOS!$N$3) -> 0 | AF14: =SUMIFS(tabela_registros[VALOR],tabela_registros[MÊS],$AE$1,tabela_registros[DIA],jantotal[[#Headers],[28]],tabela_registros[REGISTRO],DADOS!$N$3) -> 0 | AG14: =SUMIFS(tabela_registros[VALOR],tabela_registros[MÊS],$AE$1,tabela_registros[DIA],jantotal[[#Headers],[29]],tabela_registros[REGISTRO],DADOS!$N$3) -> 300 | AH14: =SUMIFS(tabela_registros[VALOR],tabela_registros[MÊS],$AE$1,tabela_registros[DIA],jantotal[[#Headers],[30]],tabela_registros[REGISTRO],DADOS!$N$3) -> 62 | AI14: =SUMIFS(tabela_registros[VALOR],tabela_registros[MÊS],$AE$1,tabela_registros[DIA],jantotal[[#Headers],[31]],tabela_registros[REGISTRO],DADOS!$N$3) -> 68 | AJ14: =SUM(jantotal[[#This Row],[1]:[31]]) -> 932.35714
C15: DESPESAS | E15: =SUMIFS(tabela_registros[VALOR],tabela_registros[MÊS],$AE$1,tabela_registros[DIA],jantotal[[#Headers],[1]],tabela_registros[REGISTRO],DADOS!$N$4) -> 0 | F15: =SUMIFS(tabela_registros[VALOR],tabela_registros[MÊS],$AE$1,tabela_registros[DIA],jantotal[[#Headers],[2]],tabela_registros[REGISTRO],DADOS!$N$4) -> 0 | G15: =SUMIFS(tabela_registros[VALOR],tabela_registros[MÊS],$AE$1,tabela_registros[DIA],jantotal[[#Headers],[3]],tabela_registros[REGISTRO],DADOS!$N$4) -> 0 | H15: =SUMIFS(tabela_registros[VALOR],tabela_registros[MÊS],$AE$1,tabela_registros[DIA],jantotal[[#Headers],[4]],tabela_registros[REGISTRO],DADOS!$N$4) -> 0 | I15: =SUMIFS(tabela_registros[VALOR],tabela_registros[MÊS],$AE$1,tabela_registros[DIA],jantotal[[#Headers],[5]],tabela_registros[REGISTRO],DADOS!$N$4) -> 0 | J15: =SUMIFS(tabela_registros[VALOR],tabela_registros[MÊS],$AE$1,tabela_registros[DIA],jantotal[[#Headers],[6]],tabela_registros[REGISTRO],DADOS!$N$4) -> 0 | K15: =SUMIFS(tabela_registros[VALOR],tabela_registros[MÊS],$AE$1,tabela_registros[DIA],jantotal[[#Headers],[7]],tabela_registros[REGISTRO],DADOS!$N$4) -> 89 | L15: =SUMIFS(tabela_registros[VALOR],tabela_registros[MÊS],$AE$1,tabela_registros[DIA],jantotal[[#Headers],[8]],tabela_registros[REGISTRO],DADOS!$N$4) -> 144.57143 | M15: =SUMIFS(tabela_registros[VALOR],tabela_registros[MÊS],$AE$1,tabela_registros[DIA],jantotal[[#Headers],[9]],tabela_registros[REGISTRO],DADOS!$N$4) -> 137.21429 | N15: =SUMIFS(tabela_registros[VALOR],tabela_registros[MÊS],$AE$1,tabela_registros[DIA],jantotal[[#Headers],[10]],tabela_registros[REGISTRO],DADOS!$N$4) -> 0 | O15: =SUMIFS(tabela_registros[VALOR],tabela_registros[MÊS],$AE$1,tabela_registros[DIA],jantotal[[#Headers],[11]],tabela_registros[REGISTRO],DADOS!$N$4) -> 0 | P15: =SUMIFS(tabela_registros[VALOR],tabela_registros[MÊS],$AE$1,tabela_registros[DIA],jantotal[[#Headers],[12]],tabela_registros[REGISTRO],DADOS!$N$4) -> 0 | Q15: =SUMIFS(tabela_registros[VALOR],tabela_registros[MÊS],$AE$1,tabela_registros[DIA],jantotal[[#Headers],[13]],tabela_registros[REGISTRO],DADOS!$N$4) -> 107.78571 | R15: =SUMIFS(tabela_registros[VALOR],tabela_registros[MÊS],$AE$1,tabela_registros[DIA],jantotal[[#Headers],[14]],tabela_registros[REGISTRO],DADOS!$N$4) -> 100.42857 | S15: =SUMIFS(tabela_registros[VALOR],tabela_registros[MÊS],$AE$1,tabela_registros[DIA],jantotal[[#Headers],[15]],tabela_registros[REGISTRO],DADOS!$N$4) -> 0 | T15: =SUMIFS(tabela_registros[VALOR],tabela_registros[MÊS],$AE$1,tabela_registros[DIA],jantotal[[#Headers],[16]],tabela_registros[REGISTRO],DADOS!$N$4) -> 85.714286 | U15: =SUMIFS(tabela_registros[VALOR],tabela_registros[MÊS],$AE$1,tabela_registros[DIA],jantotal[[#Headers],[17]],tabela_registros[REGISTRO],DADOS!$N$4) -> 200 | V15: =SUMIFS(tabela_registros[VALOR],tabela_registros[MÊS],$AE$1,tabela_registros[DIA],jantotal[[#Headers],[18]],tabela_registros[REGISTRO],DADOS!$N$4) -> 150 | W15: =SUMIFS(tabela_registros[VALOR],tabela_registros[MÊS],$AE$1,tabela_registros[DIA],jantotal[[#Headers],[19]],tabela_registros[REGISTRO],DADOS!$N$4) -> 63.642857 | X15: =SUMIFS(tabela_registros[VALOR],tabela_registros[MÊS],$AE$1,tabela_registros[DIA],jantotal[[#Headers],[20]],tabela_registros[REGISTRO],DADOS!$N$4) -> 56.285714 | Y15: =SUMIFS(tabela_registros[VALOR],tabela_registros[MÊS],$AE$1,tabela_registros[DIA],jantotal[[#Headers],[21]],tabela_registros[REGISTRO],DADOS!$N$4) -> 48.928571 | Z15: =SUMIFS(tabela_registros[VALOR],tabela_registros[MÊS],$AE$1,tabela_registros[DIA],jantotal[[#Headers],[22]],tabela_registros[REGISTRO],DADOS!$N$4) -> 41.571429 | AA15: =SUMIFS(tabela_registros[VALOR],tabela_registros[MÊS],$AE$1,tabela_registros[DIA],jantotal[[#Headers],[23]],tabela_registros[REGISTRO],DADOS!$N$4) -> 0 | AB15: =SUMIFS(tabela_registros[VALOR],tabela_registros[MÊS],$AE$1,tabela_registros[DIA],jantotal[[#Headers],[24]],tabela_registros[REGISTRO],DADOS!$N$4) -> 0 | AC15: =SUMIFS(tabela_registros[VALOR],tabela_registros[MÊS],$AE$1,tabela_registros[DIA],jantotal[[#Headers],[25]],tabela_registros[REGISTRO],DADOS!$N$4) -> 0 | AD15: =SUMIFS(tabela_registros[VALOR],tabela_registros[MÊS],$AE$1,tabela_registros[DIA],jantotal[[#Headers],[26]],tabela_registros[REGISTRO],DADOS!$N$4) -> 0 | AE15: =SUMIFS(tabela_registros[VALOR],tabela_registros[MÊS],$AE$1,tabela_registros[DIA],jantotal[[#Headers],[27]],tabela_registros[REGISTRO],DADOS!$N$4) -> 0 | AF15: =SUMIFS(tabela_registros[VALOR],tabela_registros[MÊS],$AE$1,tabela_registros[DIA],jantotal[[#Headers],[28]],tabela_registros[REGISTRO],DADOS!$N$4) -> 0 | AG15: =SUMIFS(tabela_registros[VALOR],tabela_registros[MÊS],$AE$1,tabela_registros[DIA],jantotal[[#Headers],[29]],tabela_registros[REGISTRO],DADOS!$N$4) -> 0 | AH15: =SUMIFS(tabela_registros[VALOR],tabela_registros[MÊS],$AE$1,tabela_registros[DIA],jantotal[[#Headers],[30]],tabela_registros[REGISTRO],DADOS!$N$4) -> 0 | AI15: =SUMIFS(tabela_registros[VALOR],tabela_registros[MÊS],$AE$1,tabela_registros[DIA],jantotal[[#Headers],[31]],tabela_registros[REGISTRO],DADOS!$N$4) -> 0 | AJ15: =SUM(jantotal[[#This Row],[1]:[31]]) -> 1225.1429
C16: SALDO | E16: =(E14-E15)+AI1 -> 350 | F16: =jantotal[[#This Row],[1]]+(F14-F15) -> 350 | G16: =jantotal[[#This Row],[2]]+(G14-G15) -> 350 | H16: =jantotal[[#This Row],[3]]+(H14-H15) -> 600 | I16: =jantotal[[#This Row],[4]]+(I14-I15) -> 600 | J16: =jantotal[[#This Row],[5]]+(J14-J15) -> 600 | K16: =jantotal[[#This Row],[6]]+(K14-K15) -> 511 | L16: =jantotal[[#This Row],[7]]+(L14-L15) -> 366.42857 | M16: =jantotal[[#This Row],[8]]+(M14-M15) -> 229.21429 | N16: =jantotal[[#This Row],[9]]+(N14-N15) -> 359.07143 | O16: =jantotal[[#This Row],[10]]+(O14-O15) -> 481.57143 | P16: =jantotal[[#This Row],[11]]+(P14-P15) -> 481.57143 | Q16: =jantotal[[#This Row],[12]]+(Q14-Q15) -> 373.78571 | R16: =jantotal[[#This Row],[13]]+(R14-R15) -> 273.35714 | S16: =jantotal[[#This Row],[14]]+(S14-S15) -> 273.35714 | T16: =jantotal[[#This Row],[15]]+(T14-T15) -> 187.64286 | U16: =jantotal[[#This Row],[16]]+(U14-U15) -> -12.357143 | V16: =jantotal[[#This Row],[17]]+(V14-V15) -> -162.35714 | W16: =jantotal[[#This Row],[18]]+(W14-W15) -> -226 | X16: =jantotal[[#This Row],[19]]+(X14-X15) -> -282.28571 | Y16: =jantotal[[#This Row],[20]]+(Y14-Y15) -> -331.21429 | Z16: =jantotal[[#This Row],[21]]+(Z14-Z15) -> -372.78571 | AA16: =jantotal[[#This Row],[22]]+(AA14-AA15) -> -372.78571 | AB16: =jantotal[[#This Row],[23]]+(AB14-AB15) -> -372.78571 | AC16: =jantotal[[#This Row],[24]]+(AC14-AC15) -> -372.78571 | AD16: =jantotal[[#This Row],[25]]+(AD14-AD15) -> -372.78571 | AE16: =jantotal[[#This Row],[26]]+(AE14-AE15) -> -372.78571 | AF16: =jantotal[[#This Row],[27]]+(AF14-AF15) -> -372.78571 | AG16: =jantotal[[#This Row],[28]]+(AG14-AG15) -> -72.785714 | AH16: =jantotal[[#This Row],[29]]+(AH14-AH15) -> -10.785714 | AI16: =jantotal[[#This Row],[30]]+(AI14-AI15) -> 57.214286 | AJ16: =jantotal[[#This Row],[31]] -> 57.214286
AJ21: TOTAL
AJ22: 🔽
C24: ATUAL | D24: Coluna1 | E24: 1 | F24: 2 | G24: 3 | H24: 4 | I24: 5 | J24: 6 | K24: 7 | L24: 8 | M24: 9 | N24: 10 | O24: 11 | P24: 12 | Q24: 13 | R24: 14 | S24: 15 | T24: 16 | U24: 17 | V24: 18 | W24: 19 | X24: 20 | Y24: 21 | Z24: 22 | AA24: 23 | AB24: 24 | AC24: 25 | AD24: 26 | AE24: 27 | AF24: 28 | AG24: 29 | AH24: 30 | AI24: 31 | AJ24: TOTAL (R$)
